BEGIN:VCALENDAR
VERSION:2.0
PRODID:-//Gordon Kampe - ECPv6.15.11//NONSGML v1.0//EN
CALSCALE:GREGORIAN
METHOD:PUBLISH
X-WR-CALNAME:Gordon Kampe
X-ORIGINAL-URL:https://gordonkampe.de
X-WR-CALDESC:Veranstaltungen für Gordon Kampe
REFRESH-INTERVAL;VALUE=DURATION:PT1H
X-Robots-Tag:noindex
X-PUBLISHED-TTL:PT1H
BEGIN:VTIMEZONE
TZID:Europe/Berlin
BEGIN:DAYLIGHT
TZOFFSETFROM:+0100
TZOFFSETTO:+0200
TZNAME:CEST
DTSTART:20260329T010000
END:DAYLIGHT
BEGIN:STANDARD
TZOFFSETFROM:+0200
TZOFFSETTO:+0100
TZNAME:CET
DTSTART:20261025T010000
END:STANDARD
BEGIN:DAYLIGHT
TZOFFSETFROM:+0100
TZOFFSETTO:+0200
TZNAME:CEST
DTSTART:20270328T010000
END:DAYLIGHT
BEGIN:STANDARD
TZOFFSETFROM:+0200
TZOFFSETTO:+0100
TZNAME:CET
DTSTART:20271031T010000
END:STANDARD
BEGIN:DAYLIGHT
TZOFFSETFROM:+0100
TZOFFSETTO:+0200
TZNAME:CEST
DTSTART:20280326T010000
END:DAYLIGHT
BEGIN:STANDARD
TZOFFSETFROM:+0200
TZOFFSETTO:+0100
TZNAME:CET
DTSTART:20281029T010000
END:STANDARD
END:VTIMEZONE
BEGIN:VEVENT
DTSTART;TZID=Europe/Berlin:20270502T200000
DTEND;TZID=Europe/Berlin:20270502T200000
DTSTAMP:20260420T195814
CREATED:20260319T224849Z
LAST-MODIFIED:20260319T224849Z
UID:1166-1809288000-1809288000@gordonkampe.de
SUMMARY:Die Kreide im Mund des Wolfs (Premiere)
DESCRIPTION:Ja\, Mai-Festival der Bayerischen Staatsoper \nMusiktheater für Stimme und Ensemble (2023/24) \nText von Dieter Sperl nach den Worten eines Präsidenten. \nmit Georg Nigl (Bariton) \nGeorges Delnon (Szenische Einrichtung)\, Klaus-Peter Kehr (Dramaturgie) \nBayerisches Staatsorchester \n 
URL:https://gordonkampe.de/event/die-kreide-im-mund-des-wolfs-premiere/
END:VEVENT
BEGIN:VEVENT
DTSTART;TZID=Europe/Berlin:20270508T200000
DTEND;TZID=Europe/Berlin:20270508T200000
DTSTAMP:20260420T195814
CREATED:20260319T225055Z
LAST-MODIFIED:20260319T225055Z
UID:1168-1809806400-1809806400@gordonkampe.de
SUMMARY:Die Kreide im Mund des Wolfs
DESCRIPTION:Ja\, Mai-Festival der Bayerischen Staatsoper \nMusiktheater für Stimme und Ensemble (2023/24) \nText von Dieter Sperl nach den Worten eines Präsidenten. \nmit Georg Nigl (Bariton) \nGeorges Delnon (Szenische Einrichtung)\, Klaus-Peter Kehr (Dramaturgie) \nBayerisches Staatsorchester
URL:https://gordonkampe.de/event/die-kreide-im-mund-des-wolfs/
END:VEVENT
BEGIN:VEVENT
DTSTART;TZID=Europe/Berlin:20270509T200000
DTEND;TZID=Europe/Berlin:20270509T200000
DTSTAMP:20260420T195814
CREATED:20260319T225239Z
LAST-MODIFIED:20260319T225239Z
UID:1171-1809892800-1809892800@gordonkampe.de
SUMMARY:Die Kreide im Mund des Wolfs
DESCRIPTION:Ja\, Mai-Festival der Bayerischen Staatsoper \nMusiktheater für Stimme und Ensemble (2023/24) \nText von Dieter Sperl nach den Worten eines Präsidenten. \nmit Georg Nigl (Bariton) \nGeorges Delnon (Szenische Einrichtung)\, Klaus-Peter Kehr (Dramaturgie) \nBayerisches Staatsorchester
URL:https://gordonkampe.de/event/die-kreide-im-mund-des-wolfs-2/
END:VEVENT
BEGIN:VEVENT
DTSTART;TZID=Europe/Berlin:20270522T150000
DTEND;TZID=Europe/Berlin:20270522T150000
DTSTAMP:20260420T195814
CREATED:20260415T222602Z
LAST-MODIFIED:20260415T222602Z
UID:1197-1810998000-1810998000@gordonkampe.de
SUMMARY:Störtebeker (Uraufführung)
DESCRIPTION:Ein Opernspektakel für alle in zwei Akten und einem Prolog\nLibretto: Martin G. Berger frei nach dem Opernlibretto Störtebeker und Jödge Michaels von Nicolaus Spieringk (1701) für eine verschollene Oper von Reinhard Keiser \nMusikalische Leitung: Karsten Januschke\nInszenierung: Martin G. Berger\nBühne: Sarah-Katharina Karl\nKostüme: Esther Bialas\nVideo: Vincent Stefan\nChor: Christian Günther\nJugendchor: Elisabeth Hölscheidt\nElisabeth Hölscheidt\nKinderchor: Priscilla Prueter\nDramaturgie: Judith Wiemers\nAlsterspatzen\, Chor der Hamburgischen Staatsoper\, Philharm. Staatsorchester\n 
URL:https://gordonkampe.de/event/stoertebeker-urauffuehrung/
LOCATION:Kuppel\, Luruper Chaussee 30\, Hamburg
END:VEVENT
BEGIN:VEVENT
DTSTART;TZID=Europe/Berlin:20270523T150000
DTEND;TZID=Europe/Berlin:20270523T150000
DTSTAMP:20260420T195814
CREATED:20260415T222739Z
LAST-MODIFIED:20260415T222739Z
UID:1201-1811084400-1811084400@gordonkampe.de
SUMMARY:Störtebeker
DESCRIPTION:Ein Opernspektakel für alle in zwei Akten und einem Prolog\nLibretto: Martin G. Berger frei nach dem Opernlibretto Störtebeker und Jödge Michaels von Nicolaus Spieringk (1701) für eine verschollene Oper von Reinhard Keiser \nMusikalische Leitung: Karsten Januschke\nInszenierung: Martin G. Berger\nBühne: Sarah-Katharina Karl\nKostüme: Esther Bialas\nVideo: Vincent Stefan\nChor: Christian Günther\nJugendchor: Elisabeth Hölscheidt\nElisabeth Hölscheidt\nKinderchor: Priscilla Prueter\nDramaturgie: Judith Wiemers\nAlsterspatzen\, Chor der Hamburgischen Staatsoper\, Philharm. Staatsorchester
URL:https://gordonkampe.de/event/stoertebeker/
LOCATION:Kuppel\, Luruper Chaussee 30\, Hamburg
END:VEVENT
BEGIN:VEVENT
DTSTART;TZID=Europe/Berlin:20270526T110000
DTEND;TZID=Europe/Berlin:20270526T110000
DTSTAMP:20260420T195814
CREATED:20260415T222853Z
LAST-MODIFIED:20260415T222853Z
UID:1203-1811329200-1811329200@gordonkampe.de
SUMMARY:Störtebeker
DESCRIPTION:Ein Opernspektakel für alle in zwei Akten und einem Prolog\nLibretto: Martin G. Berger frei nach dem Opernlibretto Störtebeker und Jödge Michaels von Nicolaus Spieringk (1701) für eine verschollene Oper von Reinhard Keiser \nMusikalische Leitung: Karsten Januschke\nInszenierung: Martin G. Berger\nBühne: Sarah-Katharina Karl\nKostüme: Esther Bialas\nVideo: Vincent Stefan\nChor: Christian Günther\nJugendchor: Elisabeth Hölscheidt\nElisabeth Hölscheidt\nKinderchor: Priscilla Prueter\nDramaturgie: Judith Wiemers\nAlsterspatzen\, Chor der Hamburgischen Staatsoper\, Philharm. Staatsorchester
URL:https://gordonkampe.de/event/stoertebeker-2/
LOCATION:Kuppel\, Luruper Chaussee 30\, Hamburg
END:VEVENT
BEGIN:VEVENT
DTSTART;TZID=Europe/Berlin:20270527T190000
DTEND;TZID=Europe/Berlin:20270527T190000
DTSTAMP:20260420T195814
CREATED:20260415T223011Z
LAST-MODIFIED:20260415T223011Z
UID:1205-1811444400-1811444400@gordonkampe.de
SUMMARY:Störtebeker
DESCRIPTION:Ein Opernspektakel für alle in zwei Akten und einem Prolog\nLibretto: Martin G. Berger frei nach dem Opernlibretto Störtebeker und Jödge Michaels von Nicolaus Spieringk (1701) für eine verschollene Oper von Reinhard Keiser \nMusikalische Leitung: Karsten Januschke\nInszenierung: Martin G. Berger\nBühne: Sarah-Katharina Karl\nKostüme: Esther Bialas\nVideo: Vincent Stefan\nChor: Christian Günther\nJugendchor: Elisabeth Hölscheidt\nElisabeth Hölscheidt\nKinderchor: Priscilla Prueter\nDramaturgie: Judith Wiemers\nAlsterspatzen\, Chor der Hamburgischen Staatsoper\, Philharm. Staatsorchester
URL:https://gordonkampe.de/event/stoertebeker-3/
LOCATION:Kuppel\, Luruper Chaussee 30\, Hamburg
END:VEVENT
BEGIN:VEVENT
DTSTART;TZID=Europe/Berlin:20270528T190000
DTEND;TZID=Europe/Berlin:20270528T190000
DTSTAMP:20260420T195814
CREATED:20260415T223357Z
LAST-MODIFIED:20260415T223357Z
UID:1210-1811530800-1811530800@gordonkampe.de
SUMMARY:Störtebeker
DESCRIPTION:Ein Opernspektakel für alle in zwei Akten und einem Prolog\nLibretto: Martin G. Berger frei nach dem Opernlibretto Störtebeker und Jödge Michaels von Nicolaus Spieringk (1701) für eine verschollene Oper von Reinhard Keiser \nMusikalische Leitung: Karsten Januschke\nInszenierung: Martin G. Berger\nBühne: Sarah-Katharina Karl\nKostüme: Esther Bialas\nVideo: Vincent Stefan\nChor: Christian Günther\nJugendchor: Elisabeth Hölscheidt\nElisabeth Hölscheidt\nKinderchor: Priscilla Prueter\nDramaturgie: Judith Wiemers\nAlsterspatzen\, Chor der Hamburgischen Staatsoper\, Philharm. Staatsorchester
URL:https://gordonkampe.de/event/stoertebeker-5/
LOCATION:Kuppel\, Luruper Chaussee 30\, Hamburg
END:VEVENT
BEGIN:VEVENT
DTSTART;TZID=Europe/Berlin:20270529T180000
DTEND;TZID=Europe/Berlin:20270529T180000
DTSTAMP:20260420T195814
CREATED:20260415T223120Z
LAST-MODIFIED:20260415T223249Z
UID:1207-1811613600-1811613600@gordonkampe.de
SUMMARY:Störtebeker
DESCRIPTION:Ein Opernspektakel für alle in zwei Akten und einem Prolog\nLibretto: Martin G. Berger frei nach dem Opernlibretto Störtebeker und Jödge Michaels von Nicolaus Spieringk (1701) für eine verschollene Oper von Reinhard Keiser \nMusikalische Leitung: Karsten Januschke\nInszenierung: Martin G. Berger\nBühne: Sarah-Katharina Karl\nKostüme: Esther Bialas\nVideo: Vincent Stefan\nChor: Christian Günther\nJugendchor: Elisabeth Hölscheidt\nElisabeth Hölscheidt\nKinderchor: Priscilla Prueter\nDramaturgie: Judith Wiemers\nAlsterspatzen\, Chor der Hamburgischen Staatsoper\, Philharm. Staatsorchester
URL:https://gordonkampe.de/event/stoertebeker-4/
LOCATION:Kuppel\, Luruper Chaussee 30\, Hamburg
END:VEVENT
BEGIN:VEVENT
DTSTART;TZID=Europe/Berlin:20270530T150000
DTEND;TZID=Europe/Berlin:20270530T150000
DTSTAMP:20260420T195814
CREATED:20260415T223455Z
LAST-MODIFIED:20260415T223455Z
UID:1212-1811689200-1811689200@gordonkampe.de
SUMMARY:Störtebeker
DESCRIPTION:Ein Opernspektakel für alle in zwei Akten und einem Prolog\nLibretto: Martin G. Berger frei nach dem Opernlibretto Störtebeker und Jödge Michaels von Nicolaus Spieringk (1701) für eine verschollene Oper von Reinhard Keiser \nMusikalische Leitung: Karsten Januschke\nInszenierung: Martin G. Berger\nBühne: Sarah-Katharina Karl\nKostüme: Esther Bialas\nVideo: Vincent Stefan\nChor: Christian Günther\nJugendchor: Elisabeth Hölscheidt\nElisabeth Hölscheidt\nKinderchor: Priscilla Prueter\nDramaturgie: Judith Wiemers\nAlsterspatzen\, Chor der Hamburgischen Staatsoper\, Philharm. Staatsorchester
URL:https://gordonkampe.de/event/stoertebeker-6/
LOCATION:Kuppel\, Luruper Chaussee 30\, Hamburg
END:VEVENT
END:VCALENDAR