BEGIN:VCALENDAR
VERSION:2.0
PRODID:-//Gordon Kampe - ECPv6.15.11//NONSGML v1.0//EN
CALSCALE:GREGORIAN
METHOD:PUBLISH
X-WR-CALNAME:Gordon Kampe
X-ORIGINAL-URL:https://gordonkampe.de
X-WR-CALDESC:Veranstaltungen für Gordon Kampe
REFRESH-INTERVAL;VALUE=DURATION:PT1H
X-Robots-Tag:noindex
X-PUBLISHED-TTL:PT1H
BEGIN:VTIMEZONE
TZID:Europe/Berlin
BEGIN:DAYLIGHT
TZOFFSETFROM:+0100
TZOFFSETTO:+0200
TZNAME:CEST
DTSTART:20250330T010000
END:DAYLIGHT
BEGIN:STANDARD
TZOFFSETFROM:+0200
TZOFFSETTO:+0100
TZNAME:CET
DTSTART:20251026T010000
END:STANDARD
BEGIN:DAYLIGHT
TZOFFSETFROM:+0100
TZOFFSETTO:+0200
TZNAME:CEST
DTSTART:20260329T010000
END:DAYLIGHT
BEGIN:STANDARD
TZOFFSETFROM:+0200
TZOFFSETTO:+0100
TZNAME:CET
DTSTART:20261025T010000
END:STANDARD
BEGIN:DAYLIGHT
TZOFFSETFROM:+0100
TZOFFSETTO:+0200
TZNAME:CEST
DTSTART:20270328T010000
END:DAYLIGHT
BEGIN:STANDARD
TZOFFSETFROM:+0200
TZOFFSETTO:+0100
TZNAME:CET
DTSTART:20271031T010000
END:STANDARD
END:VTIMEZONE
BEGIN:VEVENT
DTSTART;TZID=Europe/Berlin:20260802T150000
DTEND;TZID=Europe/Berlin:20260802T150000
DTSTAMP:20260420T170307
CREATED:20251207T182819Z
LAST-MODIFIED:20251207T182819Z
UID:1127-1785682800-1785682800@gordonkampe.de
SUMMARY:King Arthur
DESCRIPTION:Oper für Kinder – mit Musik von Henry Purcell \nLibretto und Regie: Fabiola Kuonen\, Bühne und Kostüme: Claudine Walter\, Dramaturgie: Andrea Schönhofer\, Musikalische Leitung: Yura Yang
URL:https://gordonkampe.de/event/king-arthur-4/
LOCATION:Salzburger Festspiele
END:VEVENT
BEGIN:VEVENT
DTSTART;TZID=Europe/Berlin:20260805T150000
DTEND;TZID=Europe/Berlin:20260805T150000
DTSTAMP:20260420T170307
CREATED:20251207T183035Z
LAST-MODIFIED:20251207T183035Z
UID:1131-1785942000-1785942000@gordonkampe.de
SUMMARY:King Arthur
DESCRIPTION:Oper für Kinder – mit Musik von Henry Purcell \nLibretto und Regie: Fabiola Kuonen\, Bühne und Kostüme: Claudine Walter\, Dramaturgie: Andrea Schönhofer\, Musikalische Leitung: Yura Yang
URL:https://gordonkampe.de/event/king-arthur-5/
LOCATION:Salzburger Festspiele
END:VEVENT
BEGIN:VEVENT
DTSTART;TZID=Europe/Berlin:20260807T150000
DTEND;TZID=Europe/Berlin:20260807T150000
DTSTAMP:20260420T170307
CREATED:20251207T183146Z
LAST-MODIFIED:20251207T183146Z
UID:1133-1786114800-1786114800@gordonkampe.de
SUMMARY:King Arthur
DESCRIPTION:Oper für Kinder – mit Musik von Henry Purcell \nLibretto und Regie: Fabiola Kuonen\, Bühne und Kostüme: Claudine Walter\, Dramaturgie: Andrea Schönhofer\, Musikalische Leitung: Yura Yang
URL:https://gordonkampe.de/event/king-arthur-6/
LOCATION:Salzburger Festspiele
END:VEVENT
BEGIN:VEVENT
DTSTART;TZID=Europe/Berlin:20260809T150000
DTEND;TZID=Europe/Berlin:20260809T150000
DTSTAMP:20260420T170307
CREATED:20251207T183248Z
LAST-MODIFIED:20251207T183248Z
UID:1135-1786287600-1786287600@gordonkampe.de
SUMMARY:King Arthur
DESCRIPTION:Oper für Kinder – mit Musik von Henry Purcell \nLibretto und Regie: Fabiola Kuonen\, Bühne und Kostüme: Claudine Walter\, Dramaturgie: Andrea Schönhofer\, Musikalische Leitung: Yura Yang
URL:https://gordonkampe.de/event/king-arthur-7/
LOCATION:Salzburger Festspiele
END:VEVENT
BEGIN:VEVENT
DTSTART;TZID=Europe/Berlin:20260812T150000
DTEND;TZID=Europe/Berlin:20260812T150000
DTSTAMP:20260420T170307
CREATED:20251207T183405Z
LAST-MODIFIED:20251207T183405Z
UID:1137-1786546800-1786546800@gordonkampe.de
SUMMARY:King Arthur
DESCRIPTION:Oper für Kinder – mit Musik von Henry Purcell \nLibretto und Regie: Fabiola Kuonen\, Bühne und Kostüme: Claudine Walter\, Dramaturgie: Andrea Schönhofer\, Musikalische Leitung: Yura Yang
URL:https://gordonkampe.de/event/king-arthur-8/
LOCATION:Salzburger Festspiele
END:VEVENT
BEGIN:VEVENT
DTSTART;TZID=Europe/Berlin:20260815T150000
DTEND;TZID=Europe/Berlin:20260815T150000
DTSTAMP:20260420T170307
CREATED:20251207T183647Z
LAST-MODIFIED:20251207T183647Z
UID:1141-1786806000-1786806000@gordonkampe.de
SUMMARY:King Arthur
DESCRIPTION:Oper für Kinder – mit Musik von Henry Purcell \nLibretto und Regie: Fabiola Kuonen\, Bühne und Kostüme: Claudine Walter\, Dramaturgie: Andrea Schönhofer\, Musikalische Leitung: Yura Yang
URL:https://gordonkampe.de/event/king-arthur-10/
LOCATION:Salzburger Festspiele
END:VEVENT
BEGIN:VEVENT
DTSTART;TZID=Europe/Berlin:20260818T150000
DTEND;TZID=Europe/Berlin:20260818T150000
DTSTAMP:20260420T170307
CREATED:20251207T183801Z
LAST-MODIFIED:20251207T183801Z
UID:1143-1787065200-1787065200@gordonkampe.de
SUMMARY:King Arthur
DESCRIPTION:Oper für Kinder – mit Musik von Henry Purcell \nLibretto und Regie: Fabiola Kuonen\, Bühne und Kostüme: Claudine Walter\, Dramaturgie: Andrea Schönhofer\, Musikalische Leitung: Yura Yang
URL:https://gordonkampe.de/event/king-arthur-11/
LOCATION:Salzburger Festspiele
END:VEVENT
BEGIN:VEVENT
DTSTART;TZID=Europe/Berlin:20260820T150000
DTEND;TZID=Europe/Berlin:20260820T150000
DTSTAMP:20260420T170307
CREATED:20251207T183911Z
LAST-MODIFIED:20251207T183911Z
UID:1145-1787238000-1787238000@gordonkampe.de
SUMMARY:King Arthur
DESCRIPTION:Oper für Kinder – mit Musik von Henry Purcell \nLibretto und Regie: Fabiola Kuonen\, Bühne und Kostüme: Claudine Walter\, Dramaturgie: Andrea Schönhofer\, Musikalische Leitung: Yura Yang
URL:https://gordonkampe.de/event/king-arthur-12/
LOCATION:Salzburger Festspiele
END:VEVENT
BEGIN:VEVENT
DTSTART;TZID=Europe/Berlin:20260823T150000
DTEND;TZID=Europe/Berlin:20260823T150000
DTSTAMP:20260420T170307
CREATED:20251207T184025Z
LAST-MODIFIED:20251207T184025Z
UID:1147-1787497200-1787497200@gordonkampe.de
SUMMARY:King Arthur
DESCRIPTION:Oper für Kinder – mit Musik von Henry Purcell \nLibretto und Regie: Fabiola Kuonen\, Bühne und Kostüme: Claudine Walter\, Dramaturgie: Andrea Schönhofer\, Musikalische Leitung: Yura Yang
URL:https://gordonkampe.de/event/king-arthur-13/
LOCATION:Salzburger Festspiele
END:VEVENT
END:VCALENDAR