BEGIN:VCALENDAR
VERSION:2.0
PRODID:-//Gordon Kampe - ECPv6.15.11//NONSGML v1.0//EN
CALSCALE:GREGORIAN
METHOD:PUBLISH
X-WR-CALNAME:Gordon Kampe
X-ORIGINAL-URL:https://gordonkampe.de
X-WR-CALDESC:Veranstaltungen für Gordon Kampe
REFRESH-INTERVAL;VALUE=DURATION:PT1H
X-Robots-Tag:noindex
X-PUBLISHED-TTL:PT1H
BEGIN:VTIMEZONE
TZID:Europe/Berlin
BEGIN:DAYLIGHT
TZOFFSETFROM:+0100
TZOFFSETTO:+0200
TZNAME:CEST
DTSTART:20250330T010000
END:DAYLIGHT
BEGIN:STANDARD
TZOFFSETFROM:+0200
TZOFFSETTO:+0100
TZNAME:CET
DTSTART:20251026T010000
END:STANDARD
BEGIN:DAYLIGHT
TZOFFSETFROM:+0100
TZOFFSETTO:+0200
TZNAME:CEST
DTSTART:20260329T010000
END:DAYLIGHT
BEGIN:STANDARD
TZOFFSETFROM:+0200
TZOFFSETTO:+0100
TZNAME:CET
DTSTART:20261025T010000
END:STANDARD
BEGIN:DAYLIGHT
TZOFFSETFROM:+0100
TZOFFSETTO:+0200
TZNAME:CEST
DTSTART:20270328T010000
END:DAYLIGHT
BEGIN:STANDARD
TZOFFSETFROM:+0200
TZOFFSETTO:+0100
TZNAME:CET
DTSTART:20271031T010000
END:STANDARD
END:VTIMEZONE
BEGIN:VEVENT
DTSTART;TZID=Europe/Berlin:20260217T200000
DTEND;TZID=Europe/Berlin:20260217T200000
DTSTAMP:20260420T150620
CREATED:20250924T181725Z
LAST-MODIFIED:20250924T181725Z
UID:899-1771358400-1771358400@gordonkampe.de
SUMMARY:Moritaten und Sentimentales
DESCRIPTION:ensemble ascolta \nFestival FRAKZIONEN
URL:https://gordonkampe.de/event/moritaten-und-sentimentales/
LOCATION:Zionskirche Bielefeld
END:VEVENT
BEGIN:VEVENT
DTSTART;TZID=Europe/Berlin:20260220T200000
DTEND;TZID=Europe/Berlin:20260220T200000
DTSTAMP:20260420T150620
CREATED:20250908T152049Z
LAST-MODIFIED:20250908T152049Z
UID:647-1771617600-1771617600@gordonkampe.de
SUMMARY:Neues Werk (UA)
DESCRIPTION:Non-Piano Ensemble: \nJennifer Hymer \nBernhard Fograscher \nDaria-Karmina Iossifova \nSteven Tanoto \nSascha Lino Lemke
URL:https://gordonkampe.de/event/neues-werk-ua/
LOCATION:NDR Konzerthaus Hannover
END:VEVENT
BEGIN:VEVENT
DTSTART;TZID=Europe/Berlin:20260224T193000
DTEND;TZID=Europe/Berlin:20260224T193000
DTSTAMP:20260420T150620
CREATED:20250926T140528Z
LAST-MODIFIED:20250926T140709Z
UID:1041-1771961400-1771961400@gordonkampe.de
SUMMARY:Neues Werk für Stimme und Orchester (UA)
DESCRIPTION:Michaela Kaune\, Sopran \nOrchester der Hochschule für Musik und Theater Hamburg \nUlrich Windfuhr\, Leitung \nInformationen
URL:https://gordonkampe.de/event/neues-werk-ua-fuer-stimme-und-orchester/
LOCATION:Hochschule für Musik und Theater Hamburg\, Harvestehuder Weg 12\, Hamburg\, 20148
END:VEVENT
BEGIN:VEVENT
DTSTART;TZID=Europe/Berlin:20260225T193000
DTEND;TZID=Europe/Berlin:20260225T193000
DTSTAMP:20260420T150620
CREATED:20250926T140643Z
LAST-MODIFIED:20250926T140643Z
UID:1043-1772047800-1772047800@gordonkampe.de
SUMMARY:Neues Werk für Stimme und Orchester (UA)
DESCRIPTION:Michaela Kaune\, Sopran \nOrchester der Hochschule für Musik und Theater Hamburg \nUlrich Windfuhr\, Leitung \nInformationen
URL:https://gordonkampe.de/event/neues-werk-fuer-stimme-und-orchester-ua/
LOCATION:Hochschule für Musik und Theater Hamburg\, Harvestehuder Weg 12\, Hamburg\, 20148
END:VEVENT
BEGIN:VEVENT
DTSTART;TZID=Europe/Berlin:20260228T113000
DTEND;TZID=Europe/Berlin:20260228T130000
DTSTAMP:20260420T150620
CREATED:20260227T151920Z
LAST-MODIFIED:20260227T151920Z
UID:1155-1772278200-1772283600@gordonkampe.de
SUMMARY:Tischgespräch – immmermeeehr
DESCRIPTION:Tischgespräch – Dramaturgische Gesellschaft \nüber die Kinderoper »immmermeeehr« \nmit Maria Milisavljević (Autorin) und Mathias Lehmann (Topus Musikverlag\, Moderation). \n 
URL:https://gordonkampe.de/event/tischgespraech-immmermeeehr/
LOCATION:Kampnagel\, Hamburg
END:VEVENT
END:VCALENDAR