BEGIN:VCALENDAR
VERSION:2.0
PRODID:-//Gordon Kampe - ECPv6.15.11//NONSGML v1.0//EN
CALSCALE:GREGORIAN
METHOD:PUBLISH
X-WR-CALNAME:Gordon Kampe
X-ORIGINAL-URL:https://gordonkampe.de
X-WR-CALDESC:Veranstaltungen für Gordon Kampe
REFRESH-INTERVAL;VALUE=DURATION:PT1H
X-Robots-Tag:noindex
X-PUBLISHED-TTL:PT1H
BEGIN:VTIMEZONE
TZID:Europe/Berlin
BEGIN:DAYLIGHT
TZOFFSETFROM:+0100
TZOFFSETTO:+0200
TZNAME:CEST
DTSTART:20260329T010000
END:DAYLIGHT
BEGIN:STANDARD
TZOFFSETFROM:+0200
TZOFFSETTO:+0100
TZNAME:CET
DTSTART:20261025T010000
END:STANDARD
BEGIN:DAYLIGHT
TZOFFSETFROM:+0100
TZOFFSETTO:+0200
TZNAME:CEST
DTSTART:20270328T010000
END:DAYLIGHT
BEGIN:STANDARD
TZOFFSETFROM:+0200
TZOFFSETTO:+0100
TZNAME:CET
DTSTART:20271031T010000
END:STANDARD
BEGIN:DAYLIGHT
TZOFFSETFROM:+0100
TZOFFSETTO:+0200
TZNAME:CEST
DTSTART:20280326T010000
END:DAYLIGHT
BEGIN:STANDARD
TZOFFSETFROM:+0200
TZOFFSETTO:+0100
TZNAME:CET
DTSTART:20281029T010000
END:STANDARD
END:VTIMEZONE
BEGIN:VEVENT
DTSTART;TZID=Europe/Berlin:20270606T180000
DTEND;TZID=Europe/Berlin:20270606T180000
DTSTAMP:20260420T210855
CREATED:20260415T224044Z
LAST-MODIFIED:20260415T224328Z
UID:1222-1812304800-1812304800@gordonkampe.de
SUMMARY:Störtebeker
DESCRIPTION:Ein Opernspektakel für alle in zwei Akten und einem Prolog\nLibretto: Martin G. Berger frei nach dem Opernlibretto Störtebeker und Jödge Michaels von Nicolaus Spieringk (1701) für eine verschollene Oper von Reinhard Keiser \nMusikalische Leitung: Karsten Januschke\nInszenierung: Martin G. Berger\nBühne: Sarah-Katharina Karl\nKostüme: Esther Bialas\nVideo: Vincent Stefan\nChor: Christian Günther\nJugendchor: Elisabeth Hölscheidt\nElisabeth Hölscheidt\nKinderchor: Priscilla Prueter\nDramaturgie: Judith Wiemers\nAlsterspatzen\, Chor der Hamburgischen Staatsoper\, Philharm. Staatsorchester
URL:https://gordonkampe.de/event/stoertebeker-11/
LOCATION:Kuppel\, Luruper Chaussee 30\, Hamburg
ATTACH;FMTTYPE=image/png:https://gordonkampe.de/wp-content/uploads/2026/04/Bildschirmfoto-2026-04-16-um-00.42.14.png
END:VEVENT
END:VCALENDAR