BEGIN:VCALENDAR
VERSION:2.0
PRODID:-//Gordon Kampe - ECPv6.15.11//NONSGML v1.0//EN
CALSCALE:GREGORIAN
METHOD:PUBLISH
X-WR-CALNAME:Gordon Kampe
X-ORIGINAL-URL:https://gordonkampe.de
X-WR-CALDESC:Veranstaltungen für Gordon Kampe
REFRESH-INTERVAL;VALUE=DURATION:PT1H
X-Robots-Tag:noindex
X-PUBLISHED-TTL:PT1H
BEGIN:VTIMEZONE
TZID:Europe/Berlin
BEGIN:DAYLIGHT
TZOFFSETFROM:+0100
TZOFFSETTO:+0200
TZNAME:CEST
DTSTART:20260329T010000
END:DAYLIGHT
BEGIN:STANDARD
TZOFFSETFROM:+0200
TZOFFSETTO:+0100
TZNAME:CET
DTSTART:20261025T010000
END:STANDARD
BEGIN:DAYLIGHT
TZOFFSETFROM:+0100
TZOFFSETTO:+0200
TZNAME:CEST
DTSTART:20270328T010000
END:DAYLIGHT
BEGIN:STANDARD
TZOFFSETFROM:+0200
TZOFFSETTO:+0100
TZNAME:CET
DTSTART:20271031T010000
END:STANDARD
BEGIN:DAYLIGHT
TZOFFSETFROM:+0100
TZOFFSETTO:+0200
TZNAME:CEST
DTSTART:20280326T010000
END:DAYLIGHT
BEGIN:STANDARD
TZOFFSETFROM:+0200
TZOFFSETTO:+0100
TZNAME:CET
DTSTART:20281029T010000
END:STANDARD
END:VTIMEZONE
BEGIN:VEVENT
DTSTART;TZID=Europe/Berlin:20270502T200000
DTEND;TZID=Europe/Berlin:20270502T200000
DTSTAMP:20260420T210901
CREATED:20260319T224849Z
LAST-MODIFIED:20260319T224849Z
UID:1166-1809288000-1809288000@gordonkampe.de
SUMMARY:Die Kreide im Mund des Wolfs (Premiere)
DESCRIPTION:Ja\, Mai-Festival der Bayerischen Staatsoper \nMusiktheater für Stimme und Ensemble (2023/24) \nText von Dieter Sperl nach den Worten eines Präsidenten. \nmit Georg Nigl (Bariton) \nGeorges Delnon (Szenische Einrichtung)\, Klaus-Peter Kehr (Dramaturgie) \nBayerisches Staatsorchester \n 
URL:https://gordonkampe.de/event/die-kreide-im-mund-des-wolfs-premiere/
END:VEVENT
END:VCALENDAR